BEGIN:VCALENDAR
VERSION:2.0
PRODID:-//H.O.G. BIELEFELD CHAPTER GERMANY - ECPv6.15.20//NONSGML v1.0//EN
CALSCALE:GREGORIAN
METHOD:PUBLISH
X-WR-CALNAME:H.O.G. BIELEFELD CHAPTER GERMANY
X-ORIGINAL-URL:https://bielefeld-chapter.de
X-WR-CALDESC:Veranstaltungen für H.O.G. BIELEFELD CHAPTER GERMANY
REFRESH-INTERVAL;VALUE=DURATION:PT1H
X-Robots-Tag:noindex
X-PUBLISHED-TTL:PT1H
BEGIN:VTIMEZONE
TZID:UTC
BEGIN:STANDARD
TZOFFSETFROM:+0000
TZOFFSETTO:+0000
TZNAME:UTC
DTSTART:20250101T000000
END:STANDARD
END:VTIMEZONE
BEGIN:VEVENT
DTSTART;TZID=UTC:20261212T090000
DTEND;TZID=UTC:20261212T170000
DTSTAMP:20260424T135002
CREATED:20251223T160037Z
LAST-MODIFIED:20251224T075853Z
UID:2971-1797066000-1797094800@bielefeld-chapter.de
SUMMARY:Christmas - Open House
DESCRIPTION:Weitere Infos folgen.
URL:https://bielefeld-chapter.de/event/christmas-open-house
LOCATION:Harley-Davidson Bielefeld Vertragshändler Reibchen + Stegemann\, Am Stadtholz\, Bielefeld
ATTACH;FMTTYPE=image/jpeg:https://bielefeld-chapter.de/wp-content/uploads/2025/12/Weihnachtsbaum.jpg
END:VEVENT
END:VCALENDAR