BEGIN:VCALENDAR
VERSION:2.0
PRODID:-//H.O.G. BIELEFELD CHAPTER GERMANY - ECPv6.15.20//NONSGML v1.0//EN
CALSCALE:GREGORIAN
METHOD:PUBLISH
X-ORIGINAL-URL:https://bielefeld-chapter.de
X-WR-CALDESC:Veranstaltungen für H.O.G. BIELEFELD CHAPTER GERMANY
REFRESH-INTERVAL;VALUE=DURATION:PT1H
X-Robots-Tag:noindex
X-PUBLISHED-TTL:PT1H
BEGIN:VTIMEZONE
TZID:UTC
BEGIN:STANDARD
TZOFFSETFROM:+0000
TZOFFSETTO:+0000
TZNAME:UTC
DTSTART:20250101T000000
END:STANDARD
END:VTIMEZONE
BEGIN:VEVENT
DTSTART;TZID=UTC:20260906T103000
DTEND;TZID=UTC:20260906T170000
DTSTAMP:20260425T104159
CREATED:20260319T142741Z
LAST-MODIFIED:20260319T142741Z
UID:3236-1788690600-1788714000@bielefeld-chapter.de
SUMMARY:RC Robert Sonntagsausflug
DESCRIPTION:
URL:https://bielefeld-chapter.de/event/rc-robert-sonntagsausflug
LOCATION:BURGER KING\, Eckendorfer Straße\, Bielefeld
ATTACH;FMTTYPE=image/jpeg:https://bielefeld-chapter.de/wp-content/uploads/2026/03/Sonntagsausfahrt.jpg
END:VEVENT
BEGIN:VEVENT
DTSTART;TZID=UTC:20260908T110000
DTEND;TZID=UTC:20260913T180000
DTSTAMP:20260425T104159
CREATED:20251223T155359Z
LAST-MODIFIED:20251223T155359Z
UID:2962-1788865200-1789322400@bielefeld-chapter.de
SUMMARY:European Bike Week Faaker See
DESCRIPTION:Informationen folgen.
URL:https://bielefeld-chapter.de/event/european-bike-week-faaker-see
LOCATION:Faaker See\, Kärnten\, Österreich
ATTACH;FMTTYPE=image/jpeg:https://bielefeld-chapter.de/wp-content/uploads/2025/12/Faaker-See.jpg
END:VEVENT
BEGIN:VEVENT
DTSTART;TZID=UTC:20260913T090000
DTEND;TZID=UTC:20260913T170000
DTSTAMP:20260425T104159
CREATED:20251223T155553Z
LAST-MODIFIED:20251224T080717Z
UID:2965-1789290000-1789318800@bielefeld-chapter.de
SUMMARY:Abschlussfahrt Rudi
DESCRIPTION:Tagestour noch offen.
URL:https://bielefeld-chapter.de/event/abschlussfahrt-rudi
LOCATION:wird noch bekanntgegeben
ATTACH;FMTTYPE=image/jpeg:https://bielefeld-chapter.de/wp-content/uploads/2025/12/Rudi-1.jpg
END:VEVENT
BEGIN:VEVENT
DTSTART;TZID=UTC:20260919T090000
DTEND;TZID=UTC:20260919T170000
DTSTAMP:20260425T104159
CREATED:20251223T155853Z
LAST-MODIFIED:20251224T084704Z
UID:2968-1789808400-1789837200@bielefeld-chapter.de
SUMMARY:Open House - Bagger watch party
DESCRIPTION:Kuchen und Kaffee Stand übernimmt das Teutonen Chapter. Wir die Ausleihung der Maschinen.
URL:https://bielefeld-chapter.de/event/open-house-bagger-watch-party
LOCATION:Harley-Davidson Bielefeld Vertragshändler Reibchen + Stegemann\, Am Stadtholz\, Bielefeld
ATTACH;FMTTYPE=image/jpeg:https://bielefeld-chapter.de/wp-content/uploads/2025/12/Open-House-1-2.jpg
END:VEVENT
BEGIN:VEVENT
DTSTART;TZID=UTC:20260924T190000
DTEND;TZID=UTC:20260924T220000
DTSTAMP:20260425T104159
CREATED:20260316T100814Z
LAST-MODIFIED:20260316T100814Z
UID:3196-1790276400-1790287200@bielefeld-chapter.de
SUMMARY:Stammtisch - Gäste sind herzlich willkommen! 24.09.2026
DESCRIPTION:
URL:https://bielefeld-chapter.de/event/stammtisch-gaeste-sind-herzlich-willkommen-24-09-2026
ATTACH;FMTTYPE=image/jpeg:https://bielefeld-chapter.de/wp-content/uploads/2026/03/Stammtisch.jpg
END:VEVENT
BEGIN:VEVENT
DTSTART;TZID=UTC:20260926T114500
DTEND;TZID=UTC:20260926T173000
DTSTAMP:20260425T104159
CREATED:20260209T152733Z
LAST-MODIFIED:20260209T193114Z
UID:3067-1790423100-1790443800@bielefeld-chapter.de
SUMMARY:Anwärtertour 2026
DESCRIPTION:Volker Heubaum stellt ein Team zusammen und nimmt die Orga. der Anwärtertour 2026 in die Hand.\nEs geht von HD Bielefeld gegen späten Vormittag los\, mit Ziel nach Rietberg zu V-Triebwerke. Der Umweg dorthin wird ca. 120 km weit sein.\nV-Triebwerk feiert an diesem Nachmittag 30 jähriges Bestehen und heißt uns herzlich Willkommen. Wir können dort sidecars besichtigen\, es gibt Wurst & Co. Ausserdem ist live Musik geplant.\nHeimfahrt von dort dann nach jedermann eigener Planung. \nWeitere Details folgen
URL:https://bielefeld-chapter.de/event/anwaertertour-2026
LOCATION:Harley-Davidson Bielefeld Vertragshändler Reibchen + Stegemann\, Am Stadtholz\, Bielefeld
ATTACH;FMTTYPE=image/jpeg:https://bielefeld-chapter.de/wp-content/uploads/2026/02/Anwaertertour.jpg
END:VEVENT
END:VCALENDAR