BEGIN:VCALENDAR
VERSION:2.0
PRODID:-//H.O.G. BIELEFELD CHAPTER GERMANY - ECPv6.15.20//NONSGML v1.0//EN
CALSCALE:GREGORIAN
METHOD:PUBLISH
X-ORIGINAL-URL:https://bielefeld-chapter.de
X-WR-CALDESC:Veranstaltungen für H.O.G. BIELEFELD CHAPTER GERMANY
REFRESH-INTERVAL;VALUE=DURATION:PT1H
X-Robots-Tag:noindex
X-PUBLISHED-TTL:PT1H
BEGIN:VTIMEZONE
TZID:UTC
BEGIN:STANDARD
TZOFFSETFROM:+0000
TZOFFSETTO:+0000
TZNAME:UTC
DTSTART:20250101T000000
END:STANDARD
END:VTIMEZONE
BEGIN:VEVENT
DTSTART;TZID=UTC:20261022T190000
DTEND;TZID=UTC:20261022T220000
DTSTAMP:20260420T114405
CREATED:20260316T100919Z
LAST-MODIFIED:20260316T100919Z
UID:3198-1792695600-1792706400@bielefeld-chapter.de
SUMMARY:Stammtisch - Gäste sind herzlich willkommen! 22.10.2026
DESCRIPTION:
URL:https://bielefeld-chapter.de/event/stammtisch-gaeste-sind-herzlich-willkommen-22-10-2026
ATTACH;FMTTYPE=image/jpeg:https://bielefeld-chapter.de/wp-content/uploads/2026/03/Stammtisch.jpg
END:VEVENT
BEGIN:VEVENT
DTSTART;TZID=UTC:20261101T103000
DTEND;TZID=UTC:20261101T180000
DTSTAMP:20260420T114405
CREATED:20260106T173514Z
LAST-MODIFIED:20260106T173514Z
UID:3004-1793529000-1793556000@bielefeld-chapter.de
SUMMARY:Sonntagsausfahrt 01.11.2026
DESCRIPTION:Wie jeden ersten Sonntag im Monat während der Saison treffen wir uns beim Burger King und erleben eine schöne Ausfahrt zusammen.
URL:https://bielefeld-chapter.de/event/sonntagsausfahrt-01-11-2026
LOCATION:BURGER KING\, Eckendorfer Straße\, Bielefeld
ATTACH;FMTTYPE=image/jpeg:https://bielefeld-chapter.de/wp-content/uploads/2026/01/Sonntagsausfahrt.jpg
END:VEVENT
BEGIN:VEVENT
DTSTART;TZID=UTC:20261121T080000
DTEND;TZID=UTC:20261121T170000
DTSTAMP:20260420T114405
CREATED:20260106T180518Z
LAST-MODIFIED:20260106T180518Z
UID:3022-1795248000-1795280400@bielefeld-chapter.de
SUMMARY:Samstagstour 21.11.2026
DESCRIPTION:Wie jeden dritten Samstag im Monat während der Saison treffen wir uns bei Harley-Davidson Bielefeld und erleben eine schöne Ausfahrt zusammen.
URL:https://bielefeld-chapter.de/event/samstagstour-21-11-2026
LOCATION:Harley-Davidson Bielefeld Vertragshändler Reibchen + Stegemann\, Am Stadtholz\, Bielefeld
ATTACH;FMTTYPE=image/jpeg:https://bielefeld-chapter.de/wp-content/uploads/2026/01/Samstagstour-1.jpg
END:VEVENT
BEGIN:VEVENT
DTSTART;TZID=UTC:20261126T190000
DTEND;TZID=UTC:20261126T220000
DTSTAMP:20260420T114405
CREATED:20260316T101025Z
LAST-MODIFIED:20260316T101025Z
UID:3200-1795719600-1795730400@bielefeld-chapter.de
SUMMARY:Stammtisch - Gäste sind herzlich willkommen! 26.11.2026
DESCRIPTION:
URL:https://bielefeld-chapter.de/event/stammtisch-gaeste-sind-herzlich-willkommen-26-11-2026
ATTACH;FMTTYPE=image/jpeg:https://bielefeld-chapter.de/wp-content/uploads/2026/03/Stammtisch.jpg
END:VEVENT
BEGIN:VEVENT
DTSTART;TZID=UTC:20261212T090000
DTEND;TZID=UTC:20261212T170000
DTSTAMP:20260420T114405
CREATED:20251223T160037Z
LAST-MODIFIED:20251224T075853Z
UID:2971-1797066000-1797094800@bielefeld-chapter.de
SUMMARY:Christmas - Open House
DESCRIPTION:Weitere Infos folgen.
URL:https://bielefeld-chapter.de/event/christmas-open-house
LOCATION:Harley-Davidson Bielefeld Vertragshändler Reibchen + Stegemann\, Am Stadtholz\, Bielefeld
ATTACH;FMTTYPE=image/jpeg:https://bielefeld-chapter.de/wp-content/uploads/2025/12/Weihnachtsbaum.jpg
END:VEVENT
END:VCALENDAR