BEGIN:VCALENDAR
VERSION:2.0
PRODID:-//H.O.G. BIELEFELD CHAPTER GERMANY - ECPv6.15.20//NONSGML v1.0//EN
CALSCALE:GREGORIAN
METHOD:PUBLISH
X-WR-CALNAME:H.O.G. BIELEFELD CHAPTER GERMANY
X-ORIGINAL-URL:https://bielefeld-chapter.de
X-WR-CALDESC:Veranstaltungen für H.O.G. BIELEFELD CHAPTER GERMANY
REFRESH-INTERVAL;VALUE=DURATION:PT1H
X-Robots-Tag:noindex
X-PUBLISHED-TTL:PT1H
BEGIN:VTIMEZONE
TZID:UTC
BEGIN:STANDARD
TZOFFSETFROM:+0000
TZOFFSETTO:+0000
TZNAME:UTC
DTSTART:20250101T000000
END:STANDARD
END:VTIMEZONE
BEGIN:VEVENT
DTSTART;TZID=UTC:20260607T103000
DTEND;TZID=UTC:20260607T180000
DTSTAMP:20260420T100832
CREATED:20260106T172814Z
LAST-MODIFIED:20260328T141129Z
UID:2994-1780828200-1780855200@bielefeld-chapter.de
SUMMARY:RC Andreas Sonntagsausflug mit RC Andreas 07.06.2/ Kaiser Wilhelm und Outside
DESCRIPTION:Heute geht es von Burger King Eckendorfer Str. Bielefeld zum Kaiser Wilhelm Denkmal Kaiserstrasse\, 15\, Porta Westfalica mit Ausblick in das Umland und Erfrischung / Imbiss am Parkplatz. Danach geht es weiter ins Lokal outside Borgholzhausener Strasse 98\, Werther zu Pizza & Co. Bis nach Hause haben witr es dann nur noch gut 25 Km.\nGesamtstrecke ca. 136 km. / Wegen der Sitzplatzbuchung im outside haben wir eine deadline zum 17.05.2026.
URL:https://bielefeld-chapter.de/event/sonntagsausfahrt-07-06-2026
LOCATION:BURGER KING\, Eckendorfer Straße\, Bielefeld
ATTACH;FMTTYPE=image/jpeg:https://bielefeld-chapter.de/wp-content/uploads/2026/01/Sonntagsausfahrt.jpg
END:VEVENT
END:VCALENDAR