BEGIN:VCALENDAR
VERSION:2.0
PRODID:-//H.O.G. BIELEFELD CHAPTER GERMANY - ECPv6.15.20//NONSGML v1.0//EN
CALSCALE:GREGORIAN
METHOD:PUBLISH
X-ORIGINAL-URL:https://bielefeld-chapter.de
X-WR-CALDESC:Veranstaltungen für H.O.G. BIELEFELD CHAPTER GERMANY
REFRESH-INTERVAL;VALUE=DURATION:PT1H
X-Robots-Tag:noindex
X-PUBLISHED-TTL:PT1H
BEGIN:VTIMEZONE
TZID:UTC
BEGIN:STANDARD
TZOFFSETFROM:+0000
TZOFFSETTO:+0000
TZNAME:UTC
DTSTART:20250101T000000
END:STANDARD
END:VTIMEZONE
BEGIN:VEVENT
DTSTART;TZID=UTC:20260226T190000
DTEND;TZID=UTC:20260226T220000
DTSTAMP:20260424T084816
CREATED:20260221T095427Z
LAST-MODIFIED:20260222T104027Z
UID:3122-1772132400-1772143200@bielefeld-chapter.de
SUMMARY:Stammtisch - Gäste sind herzlich willkommen! 26.02.2026
DESCRIPTION:
URL:https://bielefeld-chapter.de/event/stammtisch-26-02-2026
LOCATION:Good Times\, Am Wiehagen 77\, Bielefeld
ATTACH;FMTTYPE=image/jpeg:https://bielefeld-chapter.de/wp-content/uploads/2026/02/Stammtisch.jpg
END:VEVENT
END:VCALENDAR